Workbook
Name avg_elec_grid_tax: 'Reference plant'!$B$42
Name avg_elec_tax: 'Reference plant'!$B$45
Name avg_gas_grid_tax: 'Reference plant'!$B$41
Name avg_gas_tax: 'Reference plant'!$B$44
Name CO2_emissie_factor: 'Reference plant'!$B$13
Name CO2_ETS1_price_avg: 'Summary options'!$E$14
Name CO2_price_ETS2_avg: 'Summary options'!$F$14
Name comb_elec_grid_tax: 'Summary options'!$D$48
Name comb_gas_grid_tax: 'Summary options'!$D$45
Name Contract_cap_elec_grid: 'Reference plant'!$B$27
Name Depreciation_period: 'Financial parameters'!$B$3
Name Efficiency_boiler_LHV: 'Reference plant'!$B$10
Name Elec_price_avg: 'Summary options'!$D$14
Name Esc_factor_elec_grid: 'Reference plant'!$B$31
Name Esc_factor_elec_tax: 'Reference plant'!$B$23
Name Esc_factor_gas_grid: 'Reference plant'!$B$30
Name Esc_factor_gas_tax: 'Reference plant'!$B$22
Name Escalation_elec_grid: 'Reference plant'!$B$29
Name Escalation_elec_tax: 'Energy price scenarios'!$B$27
Name Escalation_gas_grid: 'Energy price scenarios'!$B$41
Name Escalation_gas_tax: 'Energy price scenarios'!$B$14
Name Escalation_number_of_years: 'Summary options'!$Q$13
Name Escalation_year: 'Summary options'!$B$6
Name Escalation_years: 'Summary options'!$R$13
Name Esclation_gas_tax: 'Energy price scenarios'!$B$14
Name Excess_factor_elec_cap: 'Reference plant'!$B$16
Name Excess_factor_gas_cap: 'Reference plant'!$B$15
Name gas_aansluitrecht: 'Energy price scenarios'!$B$43
Name Gas_cons_annual: 'Reference plant'!$B$5
Name Gas_price_avg: 'Summary options'!$B$14
Name Gas_price_avg_NM3: 'Summary options'!$C$14
Name gas_transportrecht: 'Energy price scenarios'!$B$44
Name gas_var_transportkost: 'Energy price scenarios'!$B$45
Name Gridcosts_kW: _xlfn.LAMBDA(_xlpm.x, 311* _xlpm.x^-0.0812)
Name HHV: 'Reference plant'!$B$12
Name L_CO2_costs: 'Summary options'!$B$7
Name L_interpol: Coverpage!$B$17
Name LHV: 'Reference plant'!$B$11
Name Name_branche: Overview!$B$7
Name Name_standard_plant: Overview!$B$8
Name O_and_M_costs_perc: 'Financial parameters'!$B$6
Name Operating_hours_annual: 'Reference plant'!$B$7
Name Power_cons_annual: 'Reference plant'!$B$6
Name Prod_volume_annual: 'Reference plant'!$B$8
Name Tax_percentage: 'Financial parameters'!$B$4
Name WACC: 'Financial parameters'!$B$2

Sheet Coverpage
A3: Version | B3: 1.2
B4: Basic VIBE calculator
B5: Business case calculations for single solely on 2030 prices, no tax impact etc, no ETS 2 input, simplified CAPEX subsidy, simplified SDE++. Including combination of measures in calculation (mainly energy tax impact)
A6: Release date | B6: October, 4th 2026
A7: Questions/Remarks | B7: info@vibe2030.nl
A10: DISCLAIMER
B12: This calculator allows the user to get an indicative idea of the different business cases and sensitivities for the energy savings solutions propsed in the VIBE toolkit. However, no rights can be derived from the calculations presented. VIBE and FME accept no liability for any damages resulting from the use of, or decisions based on, the content of this Calculator. The outcomes do not substitute own proper evaluations and a more thorough analysis based upon the specific facility that the user has in mind.
B13: The calculator functions only well with modern versions of excel that can handle user defined functions
A15: password for unlock | B15: Vibe2030
A17: Interpolation function | B17: {=(ISNUMBER(L_InterpolateX(Gas_cons_annual,'Energy price scenarios'!$A$18:$A$24,'Energy price scenarios'!$C$18:$C$24)))} -> TRUE

Sheet Overview
A1: VIBE calculator | B1: Overview
A7: Name of branche | B7: Oils and Fats Industry
A8: Name of standardized plant | B8: Crushing
A11: Instructions
A12: One workbook per standardized plant
A14: VIBE Consultant:
A15: Fill in branche and name of standardized plant on this tab
A16: Fill in basic parameters standarized plant in tab ''Standard plant'. Change only yellow cells. Orange cells are proposed data
A17: Required parameters are: annual gas & electricity consumption and annual operating hours
A18: Fill in the relevant parameters for the top 5 energy savings options in tabs 'Option 1 - 5'. Change only yellow cells. Orange cells are proposed data
A19: Required parameters per option are: change annual gas & electricity consumption, annual operating hours of that option, CAPEX, subsidy parameters
A21: End user:
A22: You can add your energy price scenario in the fields user 1 & user 2 in the 'energy price scenario' tab. Financial parameters can be changed in the relevant tab
A23: You can adapt the Measure to your specific conditions in the relevant tab
A24: You can change the subsidy settings on the field of the measures
... A29: Color coding of the cells containing values
C30: Changeable
B31: Input | C31: Yes
B32: Result | C32: No
B33: Calculation/Intermediate result | C33: No
B34: Fixed or general parameter | C34: No
B35: Proposed value | C35: Yes
A37: General remarks
A38: Values to be entered within realistic range
A39: All worksheets have been locked
A40: Calculations work with up to date version of Excel (able to handle user defined functions)
A41: password for unlock | B41: Vibe2030
A44: Background of the calculations
A45: Energy taxes | B45: Based upon dutch 'staffel' system. Annual esclation included
A46: Electricity grid costs | B46: Typical grid costs based on tarief bladen, depending on aansluitvermogen. Only fixed capacity contracts included. For lower capacity also EUR/kWh component included. Escalation depends also aansluitvermogen. Aansluitvermogen calculated based upon annual consumption and annual number of operating hours
A47: Gas grid costs | B47: Typical grid costs based on tarief bladen. Including annual escalation. Capacity calculated based upon annual consumption and annual number of operating hours
A48: CO2 costs | B48: Based upon ETS 1 methodology, Assumption no change in free allocation due to energy saving measures
A49: Commodity energy costs | B49: Based upon several public scenario's
A50: Operation& maintenance costs | B50: Fixed percentage of CAPEX costs
A51: CAPEX subsidy | B51: Percentage reduction of CAPEX, no reference (null) scenario included in the calculation. User has to correct CAPEX% for reference scenario. No official RVO calculation
A52: SDE++ subsidy | B52: Indicative calculation based upon data published by PBL for SDE++ 2025. No official RVO calculation

Sheet Summary options
A1: Branche | B1: =Name_branche -> Oils and Fats Industry | Q1: List with scenario's | S1: Year
A2: Standard plant | B2: =Name_standard_plant -> Crushing | Q2: ='Energy price scenarios'!B2 -> KEV 2022 | R2: =MATCH(Q2,'Energy price scenarios'!$B$2:$Y$2,0) -> 1 | S2: 2030 | T2: =MATCH(S2,'Energy price scenarios'!$A$5,0) -> 1
Q3: ='Energy price scenarios'!F2 -> KEV 2024 | R3: =MATCH(Q3,'Energy price scenarios'!$B$2:$Y$2,0) -> 5
A4: Energy scenario | B4: Market FW 2030 (juni 2026) | Q4: ='Energy price scenarios'!J2 -> ETM Koersvaste midden weg | R4: =MATCH(Q4,'Energy price scenarios'!$B$2:$Y$2,0) -> 9 | T4: Yes
A5: Price year | B5: 2030 | C5: [FUTURE USE] | Q5: ='Energy price scenarios'!N2 -> Market FW 2030 (juni 2026) | R5: =MATCH(Q5,'Energy price scenarios'!$B$2:$Y$2,0) -> 13 | T5: No
A6: Escalation year grid & tax | B6: =B5 -> 2030 | Q6: ='Energy price scenarios'!R2 -> User 1 | R6: =MATCH(Q6,'Energy price scenarios'!$B$2:$Y$2,0) -> 17 | T6: marginal | U6: The energy tax and electricity grid impact is calculated per option on a marginal basis
A7: Inclusion CO2 ETS 1 costs | B7: Yes | Q7: ='Energy price scenarios'!V2 -> User 2 | R7: =MATCH(Q7,'Energy price scenarios'!$B$2:$Y$2,0) -> 21 | T7: average | U7: The energy tax and electricity grid impact is calculated from the averaged values over the total consumption [EUR/MWh]
A8: Marginal, average or combined impact | B8: marginal | C8: =VLOOKUP(B8,T6:U8,2,FALSE) -> The energy tax and electricity grid impact is calculated per option on a marginal basis | T8: combined | U8: The energy tax and electricity grid impact is calculated per option based upon the total change in energy consumption due to the cumulative effect of the selected options
R9: index
A10: Energy scenario | B10: =B4 -> Market FW 2030 (juni 2026) | R10: =VLOOKUP(B4,Q2:R7,2,FALSE) -> 13
R11: =VLOOKUP(B5,S2:T2,2,FALSE) -> 1
B12: ='Energy price scenarios'!B3 -> Gas | D12: ='Energy price scenarios'!C3 -> Power | E12: ='Energy price scenarios'!D3 -> CO2
B13: [EUR/MWhHHV] | C13: [EUR/Nm3] | D13: [EUR/MWH] | E13: [EUR/ton] | Q13: Year in escalation calculation | R13: =Escalation_year-YEAR(NOW())-1 -> 3
A14: =B5 -> 2030 | B14: {=INDEX('Energy price scenarios'!$B$5:$Y$5,'Summary options'!$R$11,'Summary options'!$R$10)} -> 22.2 | C14: =Gas_price_avg*HHV/3600 -> 0.21682 | D14: {=INDEX('Energy price scenarios'!$B$5:$Y$5,'Summary options'!$R$11,'Summary options'!$R$10+1)} -> 71.8 | E14: {=IF(L_CO2_costs="Yes",INDEX('Energy price scenarios'!$B$5:$Y$5,'Summary options'!$R$11,'Summary options'!$R$10+2),0)} -> 92.2
A16: Option included in combined impact?
B17: Measure 1 | C17: Measure 2 | D17: Measure 3 | E17: Measure 4 | F17: Measure 5
B18: ='Measure 1'!$B$6 -> MVR on hexane evaporator | C18: ='Measure 2'!$B$6 -> MVR on DT off-gas | D18: ='Measure 3'!$B$6 -> Measure 1 and 2 combined | E18: ='Measure 4'!$B$6 -> DT vapor recovery system | F18: ='Measure 5'!$B$6 -> N/A
A19: Change in natural gas | B19: ='Measure 1'!$B$8 -> 0 | C19: ='Measure 2'!$B$8 -> -1369200 | D19: ='Measure 3'!$B$8 -> -4591226 | E19: ='Measure 4'!$B$8 -> -401426 | F19: ='Measure 5'!$B$8 -> 0 | G19: Nm3/year
A20: Change in electricity | B20: ='Measure 1'!$B$9 -> 1736000 | C20: ='Measure 2'!$B$9 -> 6548000 | D20: ='Measure 3'!$B$9 -> 8284000 | E20: ='Measure 4'!$B$9 -> 0 | F20: ='Measure 5'!$B$9 -> 0 | G20: kWh/year
A21: CAPEX | B21: ='Measure 1'!$B$11 -> 5000000 | C21: ='Measure 2'!$B$11 -> 8500000 | D21: ='Measure 3'!$B$11 -> 13500000 | E21: ='Measure 4'!$B$11 -> 1250000 | F21: ='Measure 5'!$B$11 -> 0 | G21: EUR
A22: SDE++ (indicative) | B22: ='Measure 1'!$B$12 -> Procesgeïntegreerde warmtepomp in een verdampingsproces (8.000 uur) | C22: ='Measure 2'!$B$12 -> Procesgeïntegreerde warmtepomp in een verdampingsproces (8.000 uur) | D22: ='Measure 3'!$B$12 -> Procesgeïntegreerde warmtepomp in een verdampingsproces (8.000 uur) | E22: ='Measure 4'!$B$12 -> None | F22: ='Measure 5'!$B$12 -> None
A23: CAPEX subsidy | B23: ='Measure 1'!$B$14 -> 0 | C23: ='Measure 2'!$B$14 -> 0 | D23: ='Measure 3'!$B$14 -> 0 | E23: ='Measure 4'!$B$14 -> 0 | F23: ='Measure 5'!$B$14 -> 0
A25: Pay back time | B25: ='Measure 1'!$B$53 -> -18.280685 | C25: ='Measure 2'!$B$53 -> 103.38955 | D25: ='Measure 3'!$B$53 -> 6.0445571 | E25: ='Measure 4'!$B$53 -> 8.1900225 | F25: ='Measure 5'!$B$53 -> #DIV/0! | G25: years
A26: NPV | B26: ='Measure 1'!$B$54 -> -7061213.3 | C26: ='Measure 2'!$B$54 -> -7880433.9 | D26: ='Measure 3'!$B$54 -> 3331184 | E26: ='Measure 4'!$B$54 -> -99808.103 | F26: ='Measure 5'!$B$54 -> #DIV/0! | G26: EUR
A27: Scope 1 CO2 reduction | B27: ='Measure 1'!$B$16 -> 0 | C27: ='Measure 2'!$B$16 -> -2435.4371 | D27: ='Measure 3'!$B$16 -> -8166.5514 | E27: ='Measure 4'!$B$16 -> -714.02847 | F27: ='Measure 5'!$B$16 -> 0 | G27: ton/year
A28: Minimal CO2 price | B28: ='Measure 1'!$B$57 -> #DIV/0! | C28: ='Measure 2'!$B$57 -> 521.56617 | D28: ='Measure 3'!$B$57 -> 38.072928 | E28: ='Measure 4'!$B$57 -> 110.74833 | F28: ='Measure 5'!$B$57 -> #DIV/0! | G28: EUR/ton CO2
A29: Levelized costs of heat | B29: ='Measure 1'!$B$56 -> N/A | C29: ='Measure 2'!$B$56 -> 149.12972 | D29: ='Measure 3'!$B$56 -> 50.818651 | E29: ='Measure 4'!$B$56 -> 58.785517 | F29: ='Measure 5'!$B$56 -> N/A | G29: EUR/MWhth
A30: Energy reduction | B30: ='Measure 1'!$B$60 -> 0.014116255 | C30: ='Measure 2'!$B$60 -> -0.044638185 | D30: ='Measure 3'!$B$60 -> -0.26086228 | E30: ='Measure 4'!$B$60 -> -0.02869766 | F30: ='Measure 5'!$B$60 -> 0
B34: FALSE | C34: FALSE | D34: FALSE | E34: TRUE | F34: TRUE
A36: Total change in natural gas (combined) | B36: =SUMIF($B$34:$F$34,TRUE,B19:F19) -> -401426 | C36: Nm3/year
A37: Total change in electricity (combined) | B37: =SUMIF($B$34:$F$34,TRUE,B20:F20) -> 0 | C37: kWh/year
A39: Grid costs impact
A40: Delta contract capacity gas | B40: =B36/Operating_hours_annual -> -50.17825 | C40: Nm3/hr
A41: Delta contract capacity electricity | B41: =B37/Operating_hours_annual -> 0 | C41: kWe
A44: Profits and loss
A45: Gas | B45: =SUM(C46:C47) -> 24754.123 | C45: EUR/yr | D45: =-B45/B36 -> 0.06166547 | E45: EUR/Nm3 change
A46: Delta grid costs | C46: =-gas_var_transportkost*B40*Esc_factor_gas_grid -> 1814.2125
A47: Delta tax costs | C47: {=-(L_InterpolateX(Gas_cons_annual+B36,'Energy price scenarios'!$A$18:$A$24,'Energy price scenarios'!$C$18:$C$24)-'Reference plant'!$B$19)*Esc_factor_gas_tax} -> 22939.911
A48: Electricity | B48: =SUM(C49:C50) -> 0 | D48: =-B48/B37 -> #DIV/0! | E48: EUR/kWh change
A49: Delta grid | C49: {=-(Gridcosts_kW(Contract_cap_elec_grid+B41)*((Contract_cap_elec_grid+B41))-'Reference plant'!$B$35)*Esc_factor_elec_grid} -> 0
...

Sheet Reference plant
A2: Branche | B2: =Name_branche -> Oils and Fats Industry
A3: Standard plant | B3: =Name_standard_plant -> Crushing
A5: Annual gas consumption | B5: 12716564 | C5: Nm3/year
A6: Annual electricity consumption | B6: 11179000 | C6: kWh/year
A7: Operating hours per year | B7: 8000 | C7: hours/year
A8: Annual production volume | B8: 912500 | C8: ton/year
A10: Boiler efficiency | B10: 0.92 | C10: %LHV
A11: Heating value natural gas | B11: 31.65 | C11: MJ/Nm3 LHV
B12: 35.16 | C12: MJ/Nm3 HHV
A13: Emission factor gas | B13: 56.2 | C13: kg/GJLHV
A15: Excess factor contract capacity gas | B15: 0.1
A16: Excess factor contract capacity electr | B16: 0.1
A18: Calculation energy taxes
A19: Energy tax gas | B19: {=L_InterpolateX(Gas_cons_annual,'Energy price scenarios'!$A$18:$A$24,'Energy price scenarios'!$C$18:$C$24)} -> 2337860.1 | C19: EUR/year
A20: Energy tax electricity | B20: {=L_InterpolateX(Power_cons_annual,'Energy price scenarios'!$A$32:$A$38,'Energy price scenarios'!$C$32:$C$38)} -> 392440.79 | C20: EUR/year
A22: Escalation factor gas tax | B22: =(1+Escalation_gas_tax)^Escalation_years -> 1.061208
A23: Escalation factor elec tax | B23: =(1+Escalation_elec_tax)^Escalation_years -> 1.061208
A25: Calculation grid costs
A26: Contract capacity gas | B26: =(INT((1+Excess_factor_gas_cap)*Gas_cons_annual/Operating_hours_annual/10)+1)*10 -> 1750 | C26: Nm3/hr
A27: Contract capacity electricity | B27: =(INT((1+Excess_factor_elec_cap)*Power_cons_annual/Operating_hours_annual/10)+1)*10 -> 1540 | C27: kW
A28: Escalation gas grid costs | B28: 0.025
A29: Escalation elec grid costs | B29: {=L_InterpolateX(B27,'Energy price scenarios'!$A$51:$A$56,'Energy price scenarios'!$H$51:$H$56)} -> 0.052981176
A30: Escalation factor gas grid costs | B30: =(1+Escalation_gas_grid)^Escalation_years -> 1.061208
A31: Escalation factor elec grid costs | B31: =(1+Escalation_elec_grid)^Escalation_years -> 1.1675133
A34: Grid costs gas | B34: =gas_aansluitrecht+gas_transportrecht+gas_var_transportkost*B26 -> 62361.5 | C34: EUR/year
A35: Grid costs electricity | B35: {=IF(L_interpol,Gridcosts_kW(Contract_cap_elec_grid)*Contract_cap_elec_grid,VLOOKUP(Contract_cap_elec_grid,'Energy price scenarios'!$A$51:$J$56,10,TRUE)*Contract_cap_elec_grid)} -> 263909.14 | C35: EUR/year
A37: Annual gas consumption | B37: =Gas_cons_annual*31.65/3.6 -> 1.1179979e+08 | C37: kWhLHV/year
A38: Total energy consumption | B38: =B37+Power_cons_annual -> 1.2297879e+08 | C38: kWh/year
A39: Gas as percentage of total energy | B39: =B37/B38 -> 0.90909815 | C39: gas
A41: Average tax & grid natural gas | B41: =IF(L_interpol,(B34+B19)/Gas_cons_annual,B34/Gas_cons_annual+avg_gas_tax) -> 0.18874765 | C41: EUR/Nm3
A42: Average tax & grid electricity | B42: =IF(L_interpol,(B35+B20)/Power_cons_annual,B35/Power_cons_annual+avg_elec_tax) -> 0.058712759 | C42: EUR/kWh
A44: Marginal tax natural gas | B44: =VLOOKUP(Gas_cons_annual,'Energy price scenarios'!$A$18:$B$24,2,TRUE) -> 0.20347 | C44: EUR/Nm3
A45: Marginal tax electricity | B45: =VLOOKUP(Power_cons_annual,'Energy price scenarios'!$A$32:$B$38,2,TRUE) -> 0.03868 | C45: EUR/kWh

Sheet Measure 1
A2: Branche | B2: =Name_branche -> Oils and Fats Industry
A3: Standard plant | B3: =Name_standard_plant -> Crushing
A5: Number of option | B5: 1
A6: Name option | B6: MVR on hexane evaporator
A8: Annual change of natural gas consumption | B8: 0 | C8: Nm3/year
A9: Annual change of electricity consumption | B9: 1736000 | C9: kWh
A10: Operating hours | B10: 8000 | C10: hrs/yr
A11: CAPEX | B11: 5000000 | C11: EUR
A12: SDE++ subsidy | B12: Procesgeïntegreerde warmtepomp in een verdampingsproces (8.000 uur) | D12: Indicative calculation only
A13: Annual SDE++ delivery volume | B13: =-B8*LHV*Efficiency_boiler_LHV/3.6 -> 0 | C13: kWhSDE++/year
A14: CAPEX subsidy | B14: 0 | D14: Correction for reference (null) scenario to be included by user
A16: Reduction scope 1 emissions | B16: =B8*LHV*0.001*CO2_emissie_factor*0.001 -> 0 | C16: ton CO2/year
A17: Fossil heat replaced | B17: =-B8*LHV*Efficiency_boiler_LHV/3.6 -> 0 | C17: kWhth/year
B18: =B17/B10 -> 0 | C18: kWth
A19: Power natural gas | B19: =1000*B8*LHV/(B10*3600) -> 0 | C19: kWLHV
A20: Electrical power | B20: =B9/(B10) -> 217 | C20: kWe
A21: Effective COP on natural gas | B21: =-B19/B20 -> 0
A23: SDE++ calculation | E23: Correctiebedrag factor
C24: Vollast uren | D24: Min. bedrag | E24: * TTF_HHV | F24: * elektriciteit | G24: * ETS
A25: Basis bedrag | B25: =VLOOKUP($B$12,'SDE++'!$B$3:$H$13,2,FALSE) -> 0.0579 | C25: =VLOOKUP($B$12,'SDE++'!$B$3:$H$13,3,FALSE) -> 8000 | D25: =VLOOKUP($B$12,'SDE++'!$B$3:$H$13,4,FALSE) -> 0.129 | E25: =VLOOKUP($B$12,'SDE++'!$B$3:$H$13,5,FALSE) -> 0.77763033 | F25: =VLOOKUP($B$12,'SDE++'!$B$3:$H$13,6,FALSE) -> 0 | G25: =VLOOKUP($B$12,'SDE++'!$B$3:$H$13,7,FALSE) -> 0.00014986667
A26: Basis-Correctie bedrag SDE ++ | B26: =MAX(0,B25-MIN(D25,0.001*E25*Gas_price_avg+F25*Elec_price_avg+G25*CO2_ETS1_price_avg)) -> 0.0268189 | C26: EUR/kWhSDE++
A29: Grid costs impact
A30: Delta contract capacity gas | B30: =B8/B10 -> 0 | C30: Nm3/hr
A31: Delta contract capacity electricity | B31: =B9/B10 -> 217 | C31: kWe
A34: Profits and loss | B34: Marginal per option
A35: Gas | B35: =SUM(C36:C39) -> 0
A36: Delta commodity | C36: =-B8*Gas_price_avg_NM3 -> 0
A37: Delta grid costs | C37: =-IF(B10>=Operating_hours_annual,(gas_var_transportkost*B30)*Esc_factor_gas_grid,0) -> 0
A38: Delta tax costs | C38: {=IF(L_interpol,-(L_InterpolateX(Gas_cons_annual+B8,'Energy price scenarios'!$A$18:$A$24,'Energy price scenarios'!$C$18:$C$24)-'Reference plant'!B19)*Esc_factor_gas_tax,-1*B8*avg_gas_tax*Esc_factor_gas_tax)} -> 0
A39: Delta CO2 | C39: =-B8*LHV*0.001*CO2_emissie_factor*0.001*CO2_ETS1_price_avg -> 0
A40: Electricity | B40: =SUM(C41:C43) -> -173512.73
A41: Delta commodity | C41: =-B9*0.001*Elec_price_avg -> -124644.8
A42: Delta grid | C42: {=IF(L_interpol,-(Gridcosts_kW(Contract_cap_elec_grid+B31)),-VLOOKUP(Contract_cap_elec_grid+B31,'Energy price scenarios'!$A$51:$J$56,10,TRUE))*B31*Esc_factor_elec_grid} -> -42954.283
A43: Delta tax | C43: {=IF(L_interpol,-(L_InterpolateX(Power_cons_annual+B9,'Energy price scenarios'!$A$32:$A$38,'Energy price scenarios'!$C$32:$C$38)-'Reference plant'!$B$20)*Esc_factor_elec_tax,-B9*avg_elec_tax*Esc_factor_elec_tax)} -> -5913.6453
A44: Delta margin | B44: =B35+B40 -> -173512.73
A46: O&M costs | B46: =-O_and_M_costs_perc*B11 -> -100000
A47: SDE+ subsidy | B47: =IF(B12<>'SDE++'!$B$3,MIN(1,C25/B10)*B26*B13,0) -> 0
A48: Nett | B48: =B44+B46+B47 -> -273512.73
A50: CAPEX subsidy | B50: =B14*B11 -> 0 | C50: EUR
A51: Nett CAPEX | B51: =B11-B50 -> 5000000 | C51: EUR
...

Sheet Measure 2
A2: Branche | B2: =Name_branche -> Oils and Fats Industry
A3: Standard plant | B3: =Name_standard_plant -> Crushing
A5: Number of option | B5: 2
A6: Name option | B6: MVR on DT off-gas
A8: Annual change of natural gas consumption | B8: -1369200 | C8: Nm3/year
A9: Annual change of electricity consumption | B9: 6548000 | C9: kWh
A10: Operating hours | B10: 8000 | C10: hrs/yr
A11: CAPEX | B11: 8500000 | C11: EUR
A12: SDE++ subsidy | B12: Procesgeïntegreerde warmtepomp in een verdampingsproces (8.000 uur) | D12: Indicative calculation only
A13: Annual SDE++ delivery volume | B13: =-B8*LHV*Efficiency_boiler_LHV/3.6 -> 11074546 | C13: kWhSDE++/year
A14: CAPEX subsidy | B14: 0 | D14: Correction for reference (null) scenario to be included by user
A16: Reduction scope 1 emissions | B16: =B8*LHV*0.001*CO2_emissie_factor*0.001 -> -2435.4371 | C16: ton CO2/year
A17: Fossil heat replaced | B17: =-B8*LHV*Efficiency_boiler_LHV/3.6 -> 11074546 | C17: kWhth/year
B18: =B17/B10 -> 1384.3183 | C18: kWth
A19: Power natural gas | B19: =1000*B8*LHV/(B10*3600) -> -1504.6937 | C19: kWLHV
A20: Electrical power | B20: =B9/(B10) -> 818.5 | C20: kWe
A21: Effective COP on natural gas | B21: =-B19/B20 -> 1.8383552
A23: SDE++ calculation | E23: Correctiebedrag factor
C24: Vollast uren | D24: Min. bedrag | E24: * TTF_HHV | F24: * elektriciteit | G24: * ETS
A25: Basis bedrag | B25: =VLOOKUP($B$12,'SDE++'!$B$3:$H$13,2,FALSE) -> 0.0579 | C25: =VLOOKUP($B$12,'SDE++'!$B$3:$H$13,3,FALSE) -> 8000 | D25: =VLOOKUP($B$12,'SDE++'!$B$3:$H$13,4,FALSE) -> 0.129 | E25: =VLOOKUP($B$12,'SDE++'!$B$3:$H$13,5,FALSE) -> 0.77763033 | F25: =VLOOKUP($B$12,'SDE++'!$B$3:$H$13,6,FALSE) -> 0 | G25: =VLOOKUP($B$12,'SDE++'!$B$3:$H$13,7,FALSE) -> 0.00014986667
A26: Basis-Correctie bedrag SDE ++ | B26: =MAX(0,B25-MIN(D25,0.001*E25*Gas_price_avg+F25*Elec_price_avg+G25*CO2_ETS1_price_avg)) -> 0.0268189 | C26: EUR/kWhSDE++
A29: Grid costs impact
A30: Delta contract capacity gas | B30: =B8/B10 -> -171.15 | C30: Nm3/hr
A31: Delta contract capacity electricity | B31: =B9/B10 -> 818.5 | C31: kWe
A34: Profits and loss | B34: Marginal per option
A35: Gas | B35: =SUM(C36:C39) -> 605849.61
A36: Delta commodity | C36: =-B8*Gas_price_avg_NM3 -> 296869.94
A37: Delta grid costs | C37: =-IF(B10>=Operating_hours_annual,(gas_var_transportkost*B30)*Esc_factor_gas_grid,0) -> 6187.9893
A38: Delta tax costs | C38: {=IF(L_interpol,-(L_InterpolateX(Gas_cons_annual+B8,'Energy price scenarios'!$A$18:$A$24,'Energy price scenarios'!$C$18:$C$24)-'Reference plant'!B19)*Esc_factor_gas_tax,-1*B8*avg_gas_tax*Esc_factor_gas_tax)} -> 78244.373
A39: Delta CO2 | C39: =-B8*LHV*0.001*CO2_emissie_factor*0.001*CO2_ETS1_price_avg -> 224547.3
A40: Electricity | B40: =SUM(C41:C43) -> -650643.41
A41: Delta commodity | C41: =-B9*0.001*Elec_price_avg -> -470146.4
A42: Delta grid | C42: {=IF(L_interpol,-(Gridcosts_kW(Contract_cap_elec_grid+B31)),-VLOOKUP(Contract_cap_elec_grid+B31,'Energy price scenarios'!$A$51:$J$56,10,TRUE))*B31*Esc_factor_elec_grid} -> -158191.4
A43: Delta tax | C43: {=IF(L_interpol,-(L_InterpolateX(Power_cons_annual+B9,'Energy price scenarios'!$A$32:$A$38,'Energy price scenarios'!$C$32:$C$38)-'Reference plant'!$B$20)*Esc_factor_elec_tax,-B9*avg_elec_tax*Esc_factor_elec_tax)} -> -22305.616
A44: Delta margin | B44: =B35+B40 -> -44793.805
A46: O&M costs | B46: =-O_and_M_costs_perc*B11 -> -170000
A47: SDE+ subsidy | B47: =IF(B12<>'SDE++'!$B$3,MIN(1,C25/B10)*B26*B13,0) -> 297007.14
A48: Nett | B48: =B44+B46+B47 -> 82213.336
A50: CAPEX subsidy | B50: =B14*B11 -> 0 | C50: EUR
A51: Nett CAPEX | B51: =B11-B50 -> 8500000 | C51: EUR
...

Sheet Measure 3
A2: Branche | B2: =Name_branche -> Oils and Fats Industry
A3: Standard plant | B3: =Name_standard_plant -> Crushing
A5: Number of option | B5: 3
A6: Name option | B6: Measure 1 and 2 combined
A8: Annual change of natural gas consumption | B8: -4591226 | C8: Nm3/year
A9: Annual change of electricity consumption | B9: 8284000 | C9: kWh
A10: Operating hours | B10: 8000 | C10: hrs/yr
A11: CAPEX | B11: 13500000 | C11: EUR
A12: SDE++ subsidy | B12: Procesgeïntegreerde warmtepomp in een verdampingsproces (8.000 uur) | D12: Indicative calculation only
A13: Annual SDE++ delivery volume | B13: =-B8*LHV*Efficiency_boiler_LHV/3.6 -> 37135366 | C13: kWhSDE++/year
A14: CAPEX subsidy | B14: 0 | D14: Correction for reference (null) scenario to be included by user
A16: Reduction scope 1 emissions | B16: =B8*LHV*0.001*CO2_emissie_factor*0.001 -> -8166.5514 | C16: ton CO2/year
A17: Fossil heat replaced | B17: =-B8*LHV*Efficiency_boiler_LHV/3.6 -> 37135366 | C17: kWhth/year
B18: =B17/B10 -> 4641.9208 | C18: kWth
A19: Power natural gas | B19: =1000*B8*LHV/(B10*3600) -> -5045.5661 | C19: kWLHV
A20: Electrical power | B20: =B9/(B10) -> 1035.5 | C20: kWe
A21: Effective COP on natural gas | B21: =-B19/B20 -> 4.8725892
A23: SDE++ calculation | E23: Correctiebedrag factor
C24: Vollast uren | D24: Min. bedrag | E24: * TTF_HHV | F24: * elektriciteit | G24: * ETS
A25: Basis bedrag | B25: =VLOOKUP($B$12,'SDE++'!$B$3:$H$13,2,FALSE) -> 0.0579 | C25: =VLOOKUP($B$12,'SDE++'!$B$3:$H$13,3,FALSE) -> 8000 | D25: =VLOOKUP($B$12,'SDE++'!$B$3:$H$13,4,FALSE) -> 0.129 | E25: =VLOOKUP($B$12,'SDE++'!$B$3:$H$13,5,FALSE) -> 0.77763033 | F25: =VLOOKUP($B$12,'SDE++'!$B$3:$H$13,6,FALSE) -> 0 | G25: =VLOOKUP($B$12,'SDE++'!$B$3:$H$13,7,FALSE) -> 0.00014986667
A26: Basis-Correctie bedrag SDE ++ | B26: =MAX(0,B25-MIN(D25,0.001*E25*Gas_price_avg+F25*Elec_price_avg+G25*CO2_ETS1_price_avg)) -> 0.0268189 | C26: EUR/kWhSDE++
A29: Grid costs impact
A30: Delta contract capacity gas | B30: =B8/B10 -> -573.90325 | C30: Nm3/hr
A31: Delta contract capacity electricity | B31: =B9/B10 -> 1035.5 | C31: kWe
A34: Profits and loss | B34: Marginal per option
A35: Gas | B35: =SUM(C36:C39) -> 2329200.7
A36: Delta commodity | C36: =-B8*Gas_price_avg_NM3 -> 995469.62
A37: Delta grid costs | C37: =-IF(B10>=Operating_hours_annual,(gas_var_transportkost*B30)*Esc_factor_gas_grid,0) -> 20749.677
A38: Delta tax costs | C38: {=IF(L_interpol,-(L_InterpolateX(Gas_cons_annual+B8,'Energy price scenarios'!$A$18:$A$24,'Energy price scenarios'!$C$18:$C$24)-'Reference plant'!B19)*Esc_factor_gas_tax,-1*B8*avg_gas_tax*Esc_factor_gas_tax)} -> 560025.41
A39: Delta CO2 | C39: =-B8*LHV*0.001*CO2_emissie_factor*0.001*CO2_ETS1_price_avg -> 752956.04
A40: Electricity | B40: =SUM(C41:C43) -> -821716.18
A41: Delta commodity | C41: =-B9*0.001*Elec_price_avg -> -594791.2
A42: Delta grid | C42: {=IF(L_interpol,-(Gridcosts_kW(Contract_cap_elec_grid+B31)),-VLOOKUP(Contract_cap_elec_grid+B31,'Energy price scenarios'!$A$51:$J$56,10,TRUE))*B31*Esc_factor_elec_grid} -> -198705.71
A43: Delta tax | C43: {=IF(L_interpol,-(L_InterpolateX(Power_cons_annual+B9,'Energy price scenarios'!$A$32:$A$38,'Energy price scenarios'!$C$32:$C$38)-'Reference plant'!$B$20)*Esc_factor_elec_tax,-B9*avg_elec_tax*Esc_factor_elec_tax)} -> -28219.261
A44: Delta margin | B44: =B35+B40 -> 1507484.6
A46: O&M costs | B46: =-O_and_M_costs_perc*B11 -> -270000
A47: SDE+ subsidy | B47: =IF(B12<>'SDE++'!$B$3,MIN(1,C25/B10)*B26*B13,0) -> 995929.67
A48: Nett | B48: =B44+B46+B47 -> 2233414.2
A50: CAPEX subsidy | B50: =B14*B11 -> 0 | C50: EUR
A51: Nett CAPEX | B51: =B11-B50 -> 13500000 | C51: EUR
...

Sheet Measure 4
A2: Branche | B2: =Name_branche -> Oils and Fats Industry
A3: Standard plant | B3: =Name_standard_plant -> Crushing
A5: Number of option | B5: 4
A6: Name option | B6: DT vapor recovery system
A8: Annual change of natural gas consumption | B8: -401426 | C8: Nm3/year
A9: Annual change of electricity consumption | B9: 0 | C9: kWh
A10: Operating hours | B10: 8000 | C10: hrs/yr
A11: CAPEX | B11: 1250000 | C11: EUR
A12: SDE++ subsidy | B12: None | D12: Indicative calculation only
A13: Annual SDE++ delivery volume | B13: =-B8*LHV*Efficiency_boiler_LHV/3.6 -> 3246867.3 | C13: kWhSDE++/year
A14: CAPEX subsidy | B14: 0 | D14: Correction for reference (null) scenario to be included by user
A16: Reduction scope 1 emissions | B16: =B8*LHV*0.001*CO2_emissie_factor*0.001 -> -714.02847 | C16: ton CO2/year
A17: Fossil heat replaced | B17: =-B8*LHV*Efficiency_boiler_LHV/3.6 -> 3246867.3 | C17: kWhth/year
B18: =B17/B10 -> 405.85841 | C18: kWth
A19: Power natural gas | B19: =1000*B8*LHV/(B10*3600) -> -441.15045 | C19: kWLHV
A20: Electrical power | B20: =B9/(B10) -> 0 | C20: kWe
A21: Effective COP on natural gas | B21: =-B19/B20 -> #DIV/0!
A23: SDE++ calculation | E23: Correctiebedrag factor
C24: Vollast uren | D24: Min. bedrag | E24: * TTF_HHV | F24: * elektriciteit | G24: * ETS
A25: Basis bedrag | B25: =VLOOKUP($B$12,'SDE++'!$B$3:$H$13,2,FALSE) -> 0 | C25: =VLOOKUP($B$12,'SDE++'!$B$3:$H$13,3,FALSE) -> 0 | D25: =VLOOKUP($B$12,'SDE++'!$B$3:$H$13,4,FALSE) -> 0 | E25: =VLOOKUP($B$12,'SDE++'!$B$3:$H$13,5,FALSE) -> 0 | F25: =VLOOKUP($B$12,'SDE++'!$B$3:$H$13,6,FALSE) -> 0 | G25: =VLOOKUP($B$12,'SDE++'!$B$3:$H$13,7,FALSE) -> 0
A26: Basis-Correctie bedrag SDE ++ | B26: =MAX(0,B25-MIN(D25,0.001*E25*Gas_price_avg+F25*Elec_price_avg+G25*CO2_ETS1_price_avg)) -> 0 | C26: EUR/kWhSDE++
A29: Grid costs impact
A30: Delta contract capacity gas | B30: =B8/B10 -> -50.17825 | C30: Nm3/hr
A31: Delta contract capacity electricity | B31: =B9/B10 -> 0 | C31: kWe
A34: Profits and loss | B34: Marginal per option
A35: Gas | B35: =SUM(C36:C39) -> 177624.73
A36: Delta commodity | C36: =-B8*Gas_price_avg_NM3 -> 87037.185
A37: Delta grid costs | C37: =-IF(B10>=Operating_hours_annual,(gas_var_transportkost*B30)*Esc_factor_gas_grid,0) -> 1814.2125
A38: Delta tax costs | C38: {=IF(L_interpol,-(L_InterpolateX(Gas_cons_annual+B8,'Energy price scenarios'!$A$18:$A$24,'Energy price scenarios'!$C$18:$C$24)-'Reference plant'!B19)*Esc_factor_gas_tax,-1*B8*avg_gas_tax*Esc_factor_gas_tax)} -> 22939.911
A39: Delta CO2 | C39: =-B8*LHV*0.001*CO2_emissie_factor*0.001*CO2_ETS1_price_avg -> 65833.425
A40: Electricity | B40: =SUM(C41:C43) -> 0
A41: Delta commodity | C41: =-B9*0.001*Elec_price_avg -> 0
A42: Delta grid | C42: {=IF(L_interpol,-(Gridcosts_kW(Contract_cap_elec_grid+B31)),-VLOOKUP(Contract_cap_elec_grid+B31,'Energy price scenarios'!$A$51:$J$56,10,TRUE))*B31*Esc_factor_elec_grid} -> 0
A43: Delta tax | C43: {=IF(L_interpol,-(L_InterpolateX(Power_cons_annual+B9,'Energy price scenarios'!$A$32:$A$38,'Energy price scenarios'!$C$32:$C$38)-'Reference plant'!$B$20)*Esc_factor_elec_tax,-B9*avg_elec_tax*Esc_factor_elec_tax)} -> 0
A44: Delta margin | B44: =B35+B40 -> 177624.73
A46: O&M costs | B46: =-O_and_M_costs_perc*B11 -> -25000
A47: SDE+ subsidy | B47: =IF(B12<>'SDE++'!$B$3,MIN(1,C25/B10)*B26*B13,0) -> 0
A48: Nett | B48: =B44+B46+B47 -> 152624.73
A50: CAPEX subsidy | B50: =B14*B11 -> 0 | C50: EUR
A51: Nett CAPEX | B51: =B11-B50 -> 1250000 | C51: EUR
...

Sheet Measure 5
A2: Branche | B2: =Name_branche -> Oils and Fats Industry
A3: Standard plant | B3: =Name_standard_plant -> Crushing
A5: Number of measure | B5: 5
A6: Name measure | B6: N/A
A8: Annual change of natural gas consumption | C8: Nm3/year
A9: Annual change of electricity consumption | C9: kWh
A10: Operating hours | C10: hrs/yr
A11: CAPEX | C11: EUR
A12: SDE++ subsidy | B12: None | D12: Indicative calculation only
A13: Annual SDE++ delivery volume | B13: =-B8*LHV*Efficiency_boiler_LHV/3.6 -> 0 | C13: kWhSDE++/year
A14: CAPEX subsidy | B14: 0 | D14: Correction for reference (null) scenario to be included by user
A16: Reduction scope 1 emissions | B16: =B8*LHV*0.001*CO2_emissie_factor*0.001 -> 0 | C16: ton CO2/year
A17: Fossil heat replaced | B17: =-B8*LHV*Efficiency_boiler_LHV/3.6 -> 0 | C17: kWhth/year
B18: =B17/B10 -> #DIV/0! | C18: kWth
A19: Power natural gas | B19: =1000*B8*LHV/(B10*3600) -> #DIV/0! | C19: kWLHV
A20: Electrical power | B20: =B9/(B10) -> #DIV/0! | C20: kWe
A21: Effective COP on natural gas | B21: =-B19/B20 -> #DIV/0!
A23: SDE++ calculation | E23: Correctiebedrag factor
C24: Vollast uren | D24: Min. bedrag | E24: * TTF_HHV | F24: * elektriciteit | G24: * ETS
A25: Basis bedrag | B25: =VLOOKUP($B$12,'SDE++'!$B$3:$H$13,2,FALSE) -> 0 | C25: =VLOOKUP($B$12,'SDE++'!$B$3:$H$13,3,FALSE) -> 0 | D25: =VLOOKUP($B$12,'SDE++'!$B$3:$H$13,4,FALSE) -> 0 | E25: =VLOOKUP($B$12,'SDE++'!$B$3:$H$13,5,FALSE) -> 0 | F25: =VLOOKUP($B$12,'SDE++'!$B$3:$H$13,6,FALSE) -> 0 | G25: =VLOOKUP($B$12,'SDE++'!$B$3:$H$13,7,FALSE) -> 0
A26: Basis-Correctie bedrag SDE ++ | B26: =MAX(0,B25-MIN(D25,0.001*E25*Gas_price_avg+F25*Elec_price_avg+G25*CO2_ETS1_price_avg)) -> 0 | C26: EUR/kWhSDE++
A29: Grid costs impact
A30: Delta contract capacity gas | B30: =B8/B10 -> #DIV/0! | C30: Nm3/hr
A31: Delta contract capacity electricity | B31: =B9/B10 -> #DIV/0! | C31: kWe
A34: Profits and loss | B34: Marginal per option
A35: Gas | B35: =SUM(C36:C39) -> 0
A36: Delta commodity | C36: =-B8*Gas_price_avg_NM3 -> 0
A37: Delta grid costs | C37: =-IF(B10>=Operating_hours_annual,(gas_var_transportkost*B30)*Esc_factor_gas_grid,0) -> 0
A38: Delta tax costs | C38: {=IF(L_interpol,-(L_InterpolateX(Gas_cons_annual+B8,'Energy price scenarios'!$A$18:$A$24,'Energy price scenarios'!$C$18:$C$24)-'Reference plant'!B19)*Esc_factor_gas_tax,-1*B8*avg_gas_tax*Esc_factor_gas_tax)} -> 0
A39: Delta CO2 | C39: =-B8*LHV*0.001*CO2_emissie_factor*0.001*CO2_ETS1_price_avg -> 0
A40: Electricity | B40: =SUM(C41:C43) -> #DIV/0!
A41: Delta commodity | C41: =-B9*0.001*Elec_price_avg -> 0
A42: Delta grid | C42: {=IF(L_interpol,-(Gridcosts_kW(Contract_cap_elec_grid+B31)),-VLOOKUP(Contract_cap_elec_grid+B31,'Energy price scenarios'!$A$51:$J$56,10,TRUE))*B31*Esc_factor_elec_grid} -> #DIV/0!
A43: Delta tax | C43: {=IF(L_interpol,-(L_InterpolateX(Power_cons_annual+B9,'Energy price scenarios'!$A$32:$A$38,'Energy price scenarios'!$C$32:$C$38)-'Reference plant'!$B$20)*Esc_factor_elec_tax,-B9*avg_elec_tax*Esc_factor_elec_tax)} -> 0
A44: Delta margin | B44: =B35+B40 -> #DIV/0!
A46: O&M costs | B46: =-O_and_M_costs_perc*B11 -> 0
A47: SDE+ subsidy | B47: =IF(B12<>'SDE++'!$B$3,MIN(1,C25/B10)*B26*B13,0) -> 0
A48: Nett | B48: =B44+B46+B47 -> #DIV/0!
A50: CAPEX subsidy | B50: =B14*B11 -> 0 | C50: EUR
A51: Nett CAPEX | B51: =B11-B50 -> 0 | C51: EUR
...

Sheet Energy price scenarios
A1: Commodity price scenario's
B2: KEV 2022 | F2: KEV 2024 | J2: ETM Koersvaste midden weg | N2: Market FW 2030 (juni 2026) | R2: User 1 | V2: User 2
B3: Gas | C3: Power | D3: CO2 | F3: Gas | G3: Power | H3: CO2 | J3: Gas | K3: Power | L3: CO2 | N3: Gas | O3: Power | P3: CO2 | R3: Gas | S3: Power | T3: CO2 | V3: Gas | W3: Power | X3: CO2
B4: [EUR/MWhHHV] | C4: [EUR/MWh] | D4: [EUR/ton] | F4: [EUR/MWhHHV] | G4: [EUR/MWh] | H4: [EUR/ton] | J4: [EUR/MWhHHV] | K4: [EUR/MWh] | L4: [EUR/ton] | N4: [EUR/MWhHHV] | O4: [EUR/MWh] | P4: [EUR/ton] | R4: [EUR/MWhHHV] | S4: [EUR/MWh] | T4: [EUR/ton] | V4: [EUR/MWhHHV] | W4: [EUR/MWh] | X4: [EUR/ton]
A5: 2030 | B5: 37.883959 | C5: 73 | D5: 110 | F5: 23.549488 | G5: 65 | H5: 108 | J5: 22.4 | K5: 76.308233 | L5: 136 | N5: 22.2 | O5: 71.8 | P5: 92.2 | R5: 30 | S5: 120 | T5: 90 | V5: 30 | W5: 120 | X5: 200
A6: 2035 | J6: 21.4 | K6: 101.94308 | L6: 156
A7: 2040 | J7: 21 | K7: 119.67352 | L7: 177
A8: 2045 | J8: 20 | K8: 119.67291 | L8: 197
A9: 2050
A13: Energy tax gas
A14: Annual increase | B14: 0.02 | C14: year on year
A16: Staffel | B16: Prijs
A17: Nm3/jaar | B17: EUR/Nm3 | C17: EUR/jaar
A18: 0 | B18: =B19 -> 0.57816 | C18: 0
A19: 1000 | B19: 0.57816 | C19: =B19*A19 -> 578.16
A20: 170000 | B20: 0.57816 | C20: =(B20*(A20-A19))+C19 -> 98287.2
A21: 1000000 | B21: 0.31573 | C21: =(B21*(A21-A20))+C20 -> 360343.1
A22: 10000000 | B22: 0.20347 | C22: =(B22*(A22-A21))+C21 -> 2191573.1
A23: =A22*10 -> 100000000 | B23: 0.05385 | C23: =(B23*(A23-A22))+C22 -> 7038073.1
A24: =A23*10 -> 1000000000 | B24: =B23 -> 0.05385 | C24: =(B24*(A24-A23))+C23 -> 55503073
A26: Energy tax electricity
A27: Annual increase | B27: 0.02 | C27: year on year
A29: Staffel | B29: Prijs
A30: kWh/jaar | B30: EUR/kWh
A32: 0 | B32: =B33 -> 0.10154 | C32: 0
A33: 2900 | B33: 0.10154 | C33: =B33*A33 -> 294.466
A34: 10000 | B34: 0.10154 | C34: =(B34*(A34-A33))+C33 -> 1015.4
A35: 50000 | B35: 0.06937 | C35: =(B35*(A35-A34))+C34 -> 3790.2
A36: 10000000 | B36: 0.03868 | C36: =(B36*(A36-A35))+C35 -> 388656.2
A37: =10*A36 -> 100000000 | B37: 0.00321 | C37: =(B37*(A37-A36))+C36 -> 677556.2
A38: =10*A37 -> 1000000000 | B38: =B37 -> 0.00321 | C38: =(B38*(A38-A37))+C37 -> 3566556.2
A40: Gas network costs
A41: Annual increase | B41: 0.02 | C41: year on year
A43: Aansluit recht | B43: 1263 | C43: EUR/year
A44: Transport recht | B44: 1476 | C44: EUR/year
A45: Transport | B45: 34.07 | C45: EUR per Nm3/hr
A48: Electricity network costs
A49: Aansluitvermogen | B49: Spanning | C49: kW contract | D49: kW max | E49: vast recht | F49: EUR/kWh | G49: Totaal vastrecht | H49: Annual increase | I49: Totaal variabel
A50: [kW] | B50: [V] | C50: EUR/kW | D50: EUR/kWmax per maand | E50: EUR/jaar | I50: EUR/kWh | J50: EUR/kW
A51: 0 | C51: =C52 -> 16 | D51: =D52 -> 3.71 | E51: =E52 -> 18 | F51: =F52 -> 0.0804 | G51: =A51*(C51+12*D51)+E51 -> 18 | H51: 0.067
...

Sheet Financial parameters
A2: WACC | B2: 0.08
A3: Depreciation period | B3: 12 | C3: years
A4: Tax percentage | B4: 0.3 | C4: [NOT IN USE]
A6: O&M cost per year | B6: 0.02 | C6: of CAPEX

Sheet SDE++
F1: Correctiebedrag factor
B2: Type SDE++ | C2: Basis bedrag | D2: Vollast uren | E2: Min bedrag | F2: * TTF | G2: * elektriciteit | H2: * ETS
B3: None
B4: Procesgeïntegreerde warmtepomp in een verdampingsproces (8.000 uur) | C4: 0.0579 | D4: 8000 | E4: 0.129 | F4: =0.7*HHV/LHV -> 0.77763033 | G4: 0 | H4: =(0.0000562*3.6/90%)*(3-1)/3 -> 0.00014986667
B5: Procesgeïntegreerde warmtepomp in een verdampingsproces (5.000 uur) | C5: 0.0768 | D5: 5000 | E5: 0.129 | F5: =F4 -> 0.77763033 | G5: 0 | H5: =(0.0000562*3.6/90%)*(3-1)/3 -> 0.00014986667
B6: Procesgeïntegreerde warmtepomp in een verdampingsproces (3.000 uur) | C6: 0.1104 | D6: 3000 | E6: 0.129 | F6: =F5 -> 0.77763033 | G6: 0 | H6: =(0.0000562*3.6/90%)*(3-1)/3 -> 0.00014986667
B7: E-boiler | C7: 0.078 | D7: 4700 | E7: 0.165 | F7: =0.9*HHV/LHV -> 0.99981043 | G7: 0 | H7: 0
B8: Industriële warmtepomp, open systeem (8.000 uur) | C8: 0.0296 | D8: 8000 | E8: 0.129 | F8: =0.7*HHV/LHV -> 0.77763033 | G8: 0 | H8: =(0.0000562*3.6/90%)*(3.5-1)/3.5 -> 0.00016057143
B9: Industriële warmtepomp, open systeem (5.000 uur) | C9: 0.0439 | D9: 5000 | E9: 0.129 | F9: =F8 -> 0.77763033 | G9: 0 | H9: =(0.0000562*3.6/90%)*(3.5-1)/3.5 -> 0.00016057143
B10: Industriële warmtepomp, open systeem (3.000 uur) | C10: 0.0694 | D10: 3000 | E10: 0.129 | F10: =F9 -> 0.77763033 | G10: 0 | H10: =(0.0000562*3.6/90%)*(3.5-1)/3.5 -> 0.00016057143
B11: Industriële warmtepomp, gesloten systeem (8.000 uur) | C11: 0.0532 | D11: 8000 | E11: 0.129 | F11: =0.7*HHV/LHV -> 0.77763033 | G11: 0 | H11: =(0.0000562*3.6/90%)*(13.5-1)/13.5 -> 0.00020814815
B12: Industriële warmtepomp, gesloten systeem (5.000 uur) | C12: 0.0715 | D12: 5000 | E12: 0.129 | F12: =F11 -> 0.77763033 | G12: 0 | H12: =(0.0000562*3.6/90%)*(13.5-1)/13.5 -> 0.00020814815
B13: Industriële warmtepomp, gesloten systeem (3.000 uur) | C13: 0.1041 | D13: 3000 | E13: 0.129 | F13: =F12 -> 0.77763033 | G13: 0 | H13: =(0.0000562*3.6/90%)*(13.5-1)/13.5 -> 0.00020814815
